BEGIN:VCALENDAR
BEGIN:VEVENT
SUMMARY:Peter Evans\, Arun Ramamurthy [nycnoise]
DTSTART:20251002T000000Z
DTEND:20251002T010000Z
UID:96152ce8-61fa-420f-999f-acf2890f4d8c
CREATED:20260420T145418Z
DESCRIPTION:$30/7pm doors\, livestream
LOCATION:roulette (509 atlantic ave\, brooklyn)
END:VEVENT
END:VCALENDAR
