BEGIN:VCALENDAR
BEGIN:VEVENT
SUMMARY:JJJJJerome Ellis [nycnoise]
DTSTART:20251004T000000Z
DTEND:20251004T010000Z
UID:02769018-9c1e-462b-b2a0-e4f2f8b8ebda
CREATED:20260420T145551Z
DESCRIPTION:$30/7pm doors\, livestream
LOCATION:roulette (509 atlantic ave\, brooklyn)
END:VEVENT
END:VCALENDAR
