BEGIN:VCALENDAR
BEGIN:VEVENT
SUMMARY:Triple Canopy Symposium\, Day #1/2 [nycnoise]
DTSTART:20251010T223000Z
DTEND:20251010T233000Z
UID:7bf1baff-7d62-4b09-9ee6-2c1aeeebaa3c
CREATED:20260420T145329Z
DESCRIPTION:more info asap
LOCATION:roulette (509 atlantic ave\, brooklyn)
END:VEVENT
END:VCALENDAR
