BEGIN:VCALENDAR
BEGIN:VEVENT
SUMMARY:Triple Canopy Symposium\, Day #2/2 [nycnoise]
DTSTART:20251011T180000Z
DTEND:20251011T190000Z
UID:2a9d52dd-ad35-4502-a2dc-2ce008bfd6b2
CREATED:20260420T145459Z
DESCRIPTION:more info asap
LOCATION:roulette (509 atlantic ave\, brooklyn)
END:VEVENT
END:VCALENDAR
