BEGIN:VCALENDAR
BEGIN:VEVENT
SUMMARY:Brian Chase / Lee Ranaldo / David Watson [nycnoise]
DTSTART:20251018T000000Z
DTEND:20251018T010000Z
UID:c3170951-b0d8-49c7-a7c3-eaaf9d6371f6
CREATED:20260420T145537Z
DESCRIPTION:$30/7pm doors\, livestream
LOCATION:roulette (509 atlantic ave\, brooklyn)
END:VEVENT
END:VCALENDAR
