BEGIN:VCALENDAR
BEGIN:VEVENT
SUMMARY:Interpretations: One System (Juraj Kojs\, Margaret Lancaster\, Ale
 x Lough)\, J.D. Parran [nycnoise]
DTSTART:20251024T000000Z
DTEND:20251024T010000Z
UID:a51a448b-6e3f-4072-8965-519d60a36f7f
CREATED:20260420T145207Z
DESCRIPTION:7pm doors\,&nbsp\;livestream\; J.D.P.'s "Protestation &amp\; P
 rayer for Peace &amp\; Survival" w/ Nels Cline\, Andrew Drury\, Hilliard G
 reene
LOCATION:roulette (509 atlantic ave\, brooklyn)
END:VEVENT
END:VCALENDAR
