BEGIN:VCALENDAR
BEGIN:VEVENT
SUMMARY:Mali Obomsawin Live Scores 'Sugarcane' [nycnoise]
DTSTART:20251031T000000Z
DTEND:20251031T010000Z
UID:7f0e9c91-b4b3-49cc-8443-1da34fb6bca5
CREATED:20260420T145558Z
DESCRIPTION:7pm doors
LOCATION:roulette (509 atlantic ave\, brooklyn)
END:VEVENT
END:VCALENDAR
