BEGIN:VCALENDAR
BEGIN:VEVENT
SUMMARY:Kelly Moran: 'Don’t Trust Mirrors' [nycnoise]
DTSTART:20251107T010000Z
DTEND:20251107T020000Z
UID:764d0042-7d5e-4467-a8ab-9f1b5c78ce7f
CREATED:20260425T203829Z
DESCRIPTION:$30/7pm doors\, livestream
LOCATION:roulette (509 atlantic ave\, brooklyn)
END:VEVENT
END:VCALENDAR
