BEGIN:VCALENDAR
BEGIN:VEVENT
SUMMARY:Sloppy Jane\, Lea Jaffe + DJs girlpuppy\, good__anya [nycnoise]
DTSTART:20251009T020000Z
DTEND:20251009T030000Z
UID:911d77ac-c210-4bb8-b3cd-e6e4bac3ef7f
CREATED:20260420T145246Z
DESCRIPTION:
LOCATION:night club 101 (101 avenue a\, manhattan)
END:VEVENT
END:VCALENDAR
