BEGIN:VCALENDAR
BEGIN:VEVENT
SUMMARY:Tim Berne / Tom Rainey / Gregg Belisle-Chi [nycnoise]
DTSTART:20250924T010000Z
DTEND:20250924T020000Z
UID:ffe735b1-6818-45a9-822b-ab2744e7e892
CREATED:20260420T163339Z
DESCRIPTION:
LOCATION:lowlands (543 3rd ave\, brooklyn)
END:VEVENT
END:VCALENDAR
