BEGIN:VCALENDAR
BEGIN:VEVENT
SUMMARY:Tim Berne / Tom Rainey / Gregg Belisle-Chi [nycnoise]
DTSTART:20251001T010000Z
DTEND:20251001T020000Z
UID:e7243b57-f682-4dda-b5ce-433fb9a08508
CREATED:20260420T163249Z
DESCRIPTION:
LOCATION:lowlands (543 3rd ave\, brooklyn)
END:VEVENT
END:VCALENDAR
