BEGIN:VCALENDAR
BEGIN:VEVENT
SUMMARY:BALLET: YATTA\, CHANTSSSS\, Authentically Plastic [nycnoise]
DTSTART:20250920T230000Z
DTEND:20250921T000000Z
UID:c03382ec-8e74-4d04-9738-c0b8026f1b86
CREATED:20260420T163340Z
DESCRIPTION:
LOCATION:stone circle at ridgewood presby (59-14 70th ave\, ridgewood)
END:VEVENT
END:VCALENDAR
