BEGIN:VCALENDAR
BEGIN:VEVENT
SUMMARY:KFC Murder Chicks\, Tricky Youth\, Dicqbeats\, No Eyes [nycnoise]
DTSTART:20250915T230000Z
DTEND:20250916T000000Z
UID:bef05ff0-0d73-4f6a-8437-9facc9a143b6
CREATED:20260420T163233Z
DESCRIPTION:
LOCATION:trans-pecos (9-15 wyckoff ave\, ridgewood)
END:VEVENT
END:VCALENDAR
