BEGIN:VCALENDAR
BEGIN:VEVENT
SUMMARY:FUJ||||||||||TA\, John McCowen & Madison Greenstone [nycnoise]
DTSTART:20251214T010000Z
DTEND:20251214T020000Z
UID:254958a2-7024-46ea-b923-82dd6fe373bc
CREATED:20260425T183829Z
DESCRIPTION:$30/7pm doors\, livestream
LOCATION:roulette (509 atlantic ave\, brooklyn)
END:VEVENT
END:VCALENDAR
