BEGIN:VCALENDAR
BEGIN:VEVENT
SUMMARY:Saint Vitus Presents: Cherubs\, The Art Gray Noizz Quintet\, Genre
  is Death [nycnoise]
DTSTART:20250929T230000Z
DTEND:20250930T000000Z
UID:76da45f8-6bbc-4a46-b7ad-5c17d3756fd1
CREATED:20260420T163339Z
DESCRIPTION:
LOCATION:tv eye (1647 Weirfield St\, Ridgewood\, NY 11385)
END:VEVENT
END:VCALENDAR
