BEGIN:VCALENDAR
BEGIN:VEVENT
SUMMARY:Garbage Party: Kill Alters\, Reagan Holiday\, RGEM (DJ) [nycnoise]
DTSTART:20251010T000000Z
DTEND:20251010T010000Z
UID:70bf1dcd-03e7-4318-8500-3fc2c76811d4
CREATED:20260420T145351Z
DESCRIPTION:7pm doors
LOCATION:tv eye (1647 Weirfield St\, Ridgewood\, NY 11385)
END:VEVENT
END:VCALENDAR
