BEGIN:VCALENDAR
BEGIN:VEVENT
SUMMARY:BloodRave: Pictureplane\, Kilbourne\, NOWHERE2RUN\, Princess Peggi
 e\, NFD\, OHAILEIGH [nycnoise]
DTSTART:20251011T030000Z
DTEND:20251011T040000Z
UID:2b7a3e8a-4762-49eb-a1a2-50e5e61f5051
CREATED:20260420T145322Z
DESCRIPTION:
LOCATION:tv eye (1647 Weirfield St\, Ridgewood\, NY 11385)
END:VEVENT
END:VCALENDAR
