BEGIN:VCALENDAR
BEGIN:VEVENT
SUMMARY:Tropical Fuck Storm\, Night #1/3\, with Charlie Chimi [nycnoise]
DTSTART:20250926T230000Z
DTEND:20250927T000000Z
UID:884d2804-a1e2-4141-8509-3352af76c0ca
CREATED:20260420T163320Z
DESCRIPTION:$33 online\, $25 in-person
LOCATION:tv eye (1647 Weirfield St\, Ridgewood\, NY 11385)
END:VEVENT
END:VCALENDAR
