BEGIN:VCALENDAR
BEGIN:VEVENT
SUMMARY:Tropical Fuck Storm\, Night #2/3\, with Gunn-Truscinski Duo [nycno
 ise]
DTSTART:20250927T230000Z
DTEND:20250928T000000Z
UID:32d71b3b-ffaa-47c2-8a36-aad099dd48c5
CREATED:20260420T163320Z
DESCRIPTION:$33 online\, $25 in-person
LOCATION:tv eye (1647 Weirfield St\, Ridgewood\, NY 11385)
END:VEVENT
END:VCALENDAR
