BEGIN:VCALENDAR
BEGIN:VEVENT
SUMMARY:Limited Resources 88: Lihuen Sirvent / Martin Freeman / TJ Borden\
 , Kelly Bray & James McKain\, Matt Shuff & Chris LiButti [nycnoise]
DTSTART:20251218T013000Z
DTEND:20251218T023000Z
UID:b80e97f1-6a66-47b6-aad5-cad02377d775
CREATED:20260425T184016Z
DESCRIPTION:
LOCATION:freddy's (627 5th ave\, brooklyn)
END:VEVENT
END:VCALENDAR
