BEGIN:VCALENDAR
BEGIN:VEVENT
SUMMARY:Webber Morris Big Band (Release Show) [nycnoise]
DTSTART:20251016T230000Z
DTEND:20251017T000000Z
UID:094d5f3d-2920-4cec-ba9f-f63661e5c730
CREATED:20260420T145447Z
DESCRIPTION:Anna Webber &amp\; Angela Morris with Jay Rattman\, Charlotte 
 Greve\, Adam Schneit\, Lisa Parrott\, Tim Vaughn\, John Yao\, Jen Baker\, 
 Reginald Chapman\, Nolan Tsang\, Ryan Easter\, Jake Henry\, Kenny Warren\,
  Yuhan Su\, Marta Sanchez\, Dustin Carlson\, Adam Hopkins\, Jeff Davis
LOCATION:nublu 151 (151 ave c\, manhattan)
END:VEVENT
END:VCALENDAR
