BEGIN:VCALENDAR
BEGIN:VEVENT
SUMMARY:Moon Unit (Stephen Tamas\, Olivia Katz\, Robert Karpay) [nycnoise]
DTSTART:20250922T003000Z
DTEND:20250922T013000Z
UID:eb9c11f7-cbb1-4b70-a004-2aba951a24b0
CREATED:20260420T163321Z
DESCRIPTION:
LOCATION:st. john's in the village (218 w. 11th st.\, manhattan)
END:VEVENT
END:VCALENDAR
