BEGIN:VCALENDAR
BEGIN:VEVENT
SUMMARY:Dada Strain presents: Chris Williams\, Neti-Neti (Amirtha Kidambi 
 & Matt Evans)\, Gladstone Deluxe\, Piotr (DJ) [nycnoise]
DTSTART:20251011T230000Z
DTEND:20251012T000000Z
UID:db554f6f-8f65-4229-8c79-d71cecfa5b8f
CREATED:20260420T145350Z
DESCRIPTION:🌀 notaflof work trade
LOCATION:light & sound design
END:VEVENT
END:VCALENDAR
