BEGIN:VCALENDAR
BEGIN:VEVENT
SUMMARY:Soot\, Libby Quinn\, Don Pardo [nycnoise]
DTSTART:20251016T000000Z
DTEND:20251016T010000Z
UID:a64d0785-4744-44ee-bfb2-e5f805bde579
CREATED:20260420T145340Z
DESCRIPTION:7:30pm doors
LOCATION:gold sounds (44 wilson ave\, brooklyn)
END:VEVENT
END:VCALENDAR
