BEGIN:VCALENDAR
BEGIN:VEVENT
SUMMARY:Illegal Rhythm: Concrete Husband\, Rocco\, Spencer Zabiela\, Saint
  Velez [nycnoise]
DTSTART:20250925T020000Z
DTEND:20250925T030000Z
UID:0837fcbd-1581-44dc-8abf-4a9156cf9b9c
CREATED:20260420T163234Z
DESCRIPTION:
LOCATION:bossa nova civic club (1271 myrtle ave\, brooklyn)
END:VEVENT
END:VCALENDAR
