BEGIN:VCALENDAR
BEGIN:VEVENT
SUMMARY:splash!: Special Guest\, Yumi\, Liquid J [nycnoise]
DTSTART:20250927T020000Z
DTEND:20250927T030000Z
UID:27fc47d1-5e4e-40af-bb2a-de926db89e54
CREATED:20260420T163505Z
DESCRIPTION:
LOCATION:bossa nova civic club (1271 myrtle ave\, brooklyn)
END:VEVENT
END:VCALENDAR
