BEGIN:VCALENDAR
BEGIN:VEVENT
SUMMARY:Primo Pitino b2b Dante Scaglione\, Snake Life (datadata b2b Spiral
  Eddie) [nycnoise]
DTSTART:20250929T020000Z
DTEND:20250929T030000Z
UID:225952b4-7bb1-4ebd-92bb-cd6cf3aa5e66
CREATED:20260420T163502Z
DESCRIPTION:
LOCATION:bossa nova civic club (1271 myrtle ave\, brooklyn)
END:VEVENT
END:VCALENDAR
