BEGIN:VCALENDAR
BEGIN:VEVENT
SUMMARY:Auditory Affair / Mila's Gender Affirming Fundraiser: DJPT b2b Coy
 ado\, Sevyn Love\, FEMALE (Maenad b2b Zeigler)\, Giovannii\, Beard (Scruff
  Angel b2b Kiss Kiss)\, Will Jack [nycnoise]
DTSTART:20251002T020000Z
DTEND:20251002T030000Z
UID:de73e051-98f9-45eb-9afd-74d9825e58f4
CREATED:20260420T145336Z
DESCRIPTION:
LOCATION:bossa nova civic club (1271 myrtle ave\, brooklyn)
END:VEVENT
END:VCALENDAR
