BEGIN:VCALENDAR
BEGIN:VEVENT
SUMMARY:Sorry Records: Farsight\, Maenad\, Drummy b2b Nick Boyd [nycnoise]
DTSTART:20251006T020000Z
DTEND:20251006T030000Z
UID:f7e7cb4b-8afd-443a-bee5-a2ee936624db
CREATED:20260420T145334Z
DESCRIPTION:
LOCATION:bossa nova civic club (1271 myrtle ave\, brooklyn)
END:VEVENT
END:VCALENDAR
