BEGIN:VCALENDAR
BEGIN:VEVENT
SUMMARY:Collective Memory: x3butterfly\, MIRA MIRA\, Iris Estefanía [nycn
 oise]
DTSTART:20251009T020000Z
DTEND:20251009T030000Z
UID:d6dd076e-cc27-4f3e-aec3-af780082db14
CREATED:20260420T145343Z
DESCRIPTION:
LOCATION:bossa nova civic club (1271 myrtle ave\, brooklyn)
END:VEVENT
END:VCALENDAR
