BEGIN:VCALENDAR
BEGIN:VEVENT
SUMMARY:Audition: 1OO1O\, blastah\, Kaili\, Pelle Rock\, Civil [nycnoise]
DTSTART:20251013T020000Z
DTEND:20251013T030000Z
UID:1c49dbae-4f32-4bc9-a451-854da87d7b06
CREATED:20260420T145329Z
DESCRIPTION:
LOCATION:bossa nova civic club (1271 myrtle ave\, brooklyn)
END:VEVENT
END:VCALENDAR
