BEGIN:VCALENDAR
BEGIN:VEVENT
SUMMARY:Raw x Errant Forms: Cakedog\, username\, Lita Da Doll\, Rhino Clar
 k\, Love Higher [nycnoise]
DTSTART:20251017T020000Z
DTEND:20251017T030000Z
UID:bffba3fa-602c-4edb-89e4-48fb5da87f8a
CREATED:20260420T145410Z
DESCRIPTION:
LOCATION:bossa nova civic club (1271 myrtle ave\, brooklyn)
END:VEVENT
END:VCALENDAR
