BEGIN:VCALENDAR
BEGIN:VEVENT
SUMMARY:Anthony Tidd's Quite Sane Collective\, Night #2/3 [nycnoise]
DTSTART:20250924T000000Z
DTEND:20250924T010000Z
UID:cda8edca-fdc4-45c0-a092-8d0b80d4027f
CREATED:20260420T163503Z
DESCRIPTION:7:30pm doors\; AT w/ Kokayi\, Laurin Talese\, Astrid Kralisch\
 , Matt Mitchell\, Mark Shim\, Mason Bryant\, Tim Angulo
LOCATION:atelier harlem (246 Malcolm X Blvd\, New York\, NY 10027)
END:VEVENT
END:VCALENDAR
