BEGIN:VCALENDAR
BEGIN:VEVENT
SUMMARY:Anthony Tidd's Quite Sane Collective\, Night #3/3 [nycnoise]
DTSTART:20250925T000000Z
DTEND:20250925T010000Z
UID:a7162f0d-0f29-402f-9460-440e667be297
CREATED:20260420T163249Z
DESCRIPTION:7:30pm doors\; AT w/ Kokayi\, Laurin Talese\, Astrid Kralisch\
 , Matt Mitchell\, Mark Shim\, Miles Okazaki\, Tim Angulo
LOCATION:atelier harlem (246 Malcolm X Blvd\, New York\, NY 10027)
END:VEVENT
END:VCALENDAR
