BEGIN:VCALENDAR
BEGIN:VEVENT
SUMMARY:Will Greene\, Kevin Murray\, Bobby’s Autopsy [nycnoise]
DTSTART:20251004T233000Z
DTEND:20251005T003000Z
UID:9196e575-6851-47ad-abe7-3c2caaf7ef34
CREATED:20260420T145256Z
DESCRIPTION:
LOCATION:record shop (360 van brunt st.\, brooklyn)
END:VEVENT
END:VCALENDAR
