BEGIN:VCALENDAR
BEGIN:VEVENT
SUMMARY:Sean Hamilton\, Tom Weeks [nycnoise]
DTSTART:20251110T003000Z
DTEND:20251110T013000Z
UID:5df3d3c7-4320-422a-8ff6-9973f1972fcd
CREATED:20260425T203658Z
DESCRIPTION:confirming full lineup asap
LOCATION:record shop (360 van brunt st.\, brooklyn)
END:VEVENT
END:VCALENDAR
