BEGIN:VCALENDAR
BEGIN:VEVENT
SUMMARY:Dominique will Present Sounds [nycnoise]
DTSTART:20250925T230000Z
DTEND:20250926T000000Z
UID:14497e32-ecb3-419c-98fe-80fc71c6fe91
CREATED:20260420T163342Z
DESCRIPTION:🌀 notaflof work trade
LOCATION:light & sound design
END:VEVENT
END:VCALENDAR
