BEGIN:VCALENDAR
BEGIN:VEVENT
SUMMARY:Ed from Maine & Andrew Steinmetz will Present Sounds [nycnoise]
DTSTART:20251002T230000Z
DTEND:20251003T000000Z
UID:7c78cf22-7c9d-4de5-a55f-7b2c8b222520
CREATED:20260420T145349Z
DESCRIPTION:🌀 notaflof work trade
LOCATION:light & sound design
END:VEVENT
END:VCALENDAR
