BEGIN:VCALENDAR
BEGIN:VEVENT
SUMMARY:clairaudience\, Jonathan Schenke\, Noelle Payongayong\, Elzee [nyc
 noise]
DTSTART:20251010T230000Z
DTEND:20251011T000000Z
UID:01c6b91a-5a11-4d38-a3c1-7a877f9d8000
CREATED:20260420T145449Z
DESCRIPTION:🌀 notaflof work trade // clairaudience: Mike Sheffield w/ J
 essica Papitto\, Healani Combier-Kapel\, Carly Salas\, Alex Cvetovich
LOCATION:light & sound design
END:VEVENT
END:VCALENDAR
