BEGIN:VCALENDAR
BEGIN:VEVENT
SUMMARY:Shormey\, 1Alkebulan\, Wes Ambien [nycnoise]
DTSTART:20250926T000000Z
DTEND:20250926T010000Z
UID:51e3c3d1-2fc5-419a-ac37-2b0e0d132013
CREATED:20260420T163128Z
DESCRIPTION:
LOCATION:purgatory (675 central ave\, brooklyn)
END:VEVENT
END:VCALENDAR
