BEGIN:VCALENDAR
BEGIN:VEVENT
SUMMARY:BK Experimental Electronic: Monster Mash Cover Show [nycnoise]
DTSTART:20251023T230000Z
DTEND:20251024T000000Z
UID:7047d591-dbcf-4889-a05c-322a6343e5c9
CREATED:20260420T145342Z
DESCRIPTION:organized by Metamyther\; Emtsang b2b Penny 420\, Hush Puppy H
 ighway\, Parliament Cat\, Alex Julia\, 4Chance\, Hawaiian Nightmare\, Chen
 oa
LOCATION:wonderville (1186 broadway\, brooklyn)
END:VEVENT
END:VCALENDAR
