BEGIN:VCALENDAR
BEGIN:VEVENT
SUMMARY:Ryan C. Clarke\, SCRAAATCH [nycnoise]
DTSTART:20251011T000000Z
DTEND:20251011T010000Z
UID:ef6e408d-3f2b-48fa-a7a3-cf5fbc8d2c0d
CREATED:20260420T145351Z
DESCRIPTION:LIVESTREAM
LOCATION:poetry project st. mark's (parish hall) (131 e. 10th st.\, manhat
 tan)
END:VEVENT
END:VCALENDAR
