BEGIN:VCALENDAR
BEGIN:VEVENT
SUMMARY:Ex Wiish\, windowseeker\, Muein\, Matt Bent [nycnoise]
DTSTART:20251003T230000Z
DTEND:20251004T000000Z
UID:9cd6b95a-1e9d-4080-b6fa-bb61ebfa01a5
CREATED:20260420T145352Z
DESCRIPTION:🌀 notaflof work trade // Ex Wiish: Ben Shirken\; windowseek
 er: Lukas Oppenheimer\; Muein: Bri Griffin
LOCATION:light & sound design
END:VEVENT
END:VCALENDAR
