BEGIN:VCALENDAR
BEGIN:VEVENT
SUMMARY:Kamau Patton / Bryce Hackford\, Tommy & Gobby [nycnoise]
DTSTART:20251007T000000Z
DTEND:20251007T010000Z
UID:c75c3a62-2b83-480f-bdd9-e8accb87a61d
CREATED:20260420T145607Z
DESCRIPTION:🌀 notaflof work trade
LOCATION:light & sound design
END:VEVENT
END:VCALENDAR
