BEGIN:VCALENDAR
BEGIN:VEVENT
SUMMARY:ContraPunctus (Mike McGinnis\, Carmen Staaf\, Gui Duvignau\, Hamir
  Atwal) [nycnoise]
DTSTART:20250928T233000Z
DTEND:20250929T003000Z
UID:c9181247-5e64-4599-824b-fe85b08d2a27
CREATED:20260420T163233Z
DESCRIPTION:
LOCATION:ibeam (168 7th st.\, brooklyn)
END:VEVENT
END:VCALENDAR
