BEGIN:VCALENDAR
BEGIN:VEVENT
SUMMARY:And Friends (Album Release\; Elena Moon Park\, Nathan Koci\, Brett
  Parnell)\, Vinnie Sperrazza & Guest [nycnoise]
DTSTART:20250929T233000Z
DTEND:20250930T003000Z
UID:61a5ca67-a9f0-4991-a9ea-6678a1172dbd
CREATED:20260420T163138Z
DESCRIPTION:
LOCATION:ibeam (168 7th st.\, brooklyn)
END:VEVENT
END:VCALENDAR
