BEGIN:VCALENDAR
BEGIN:VEVENT
SUMMARY:Redeye 4 (Celine Kang\, Kaizan Connor\, Liam Summers\, Nathan Naka
 degawa-Lee)\, Selendis Sebastian Alexander Johnson / Shogo Yamagishi / Orc
 hid McRae\, Fugitive [nycnoise]
DTSTART:20251002T233000Z
DTEND:20251003T003000Z
UID:151aba2e-95f0-4fd4-86ac-5590f344aba3
CREATED:20260420T145250Z
DESCRIPTION:
LOCATION:cassette (68-38 forest ave bsmt\, ridgewood)
END:VEVENT
END:VCALENDAR
