BEGIN:VCALENDAR
BEGIN:VEVENT
SUMMARY:Offerings: Benjamin Krusling\, Lysis (Ley)\, Keioui Keijaun Thomas
  [nycnoise]
DTSTART:20251115T003000Z
DTEND:20251115T013000Z
UID:674fce04-4908-4d34-b3ab-1e769898aa6c
CREATED:20260425T203701Z
DESCRIPTION:7pm doors
LOCATION:church of st. mary the virgin (145 W 46th St\, New York\, NY 1003
 6)
END:VEVENT
END:VCALENDAR
