BEGIN:VCALENDAR
BEGIN:VEVENT
SUMMARY:Cleo Walks Through Glass\, Fashn\, Satori Loser [nycnoise]
DTSTART:20251015T233000Z
DTEND:20251016T003000Z
UID:00628c42-dc37-4104-9080-d00ba2395df1
CREATED:20260420T145326Z
DESCRIPTION:
LOCATION:cassette (68-38 forest ave bsmt\, ridgewood)
END:VEVENT
END:VCALENDAR
