BEGIN:VCALENDAR
BEGIN:VEVENT
SUMMARY:e-flux Journal #156 Launch: Jung Hee Choi: 'RICE' + 'Composition i
 n the Style of La Monte Young’s 1960 Sustained Friction Sounds' [nycnois
 e]
DTSTART:20250930T233000Z
DTEND:20251001T003000Z
UID:6512a7ec-a81c-4426-9fda-3e873f0d10e2
CREATED:20260420T163128Z
DESCRIPTION:7pm doors\; JHC video piece + live solo performance
LOCATION:e-flux (172 classon ave\, brooklyn)
END:VEVENT
END:VCALENDAR
